BEGIN:VCALENDAR
VERSION:2.0
PRODID:-//Aboriginal Ministry of Justice - ECPv6.15.20//NONSGML v1.0//EN
CALSCALE:GREGORIAN
METHOD:PUBLISH
X-ORIGINAL-URL:https://aboriginalministryofjustice.org
X-WR-CALDESC:Events for Aboriginal Ministry of Justice
REFRESH-INTERVAL;VALUE=DURATION:PT1H
X-Robots-Tag:noindex
X-PUBLISHED-TTL:PT1H
BEGIN:VTIMEZONE
TZID:America/Chicago
BEGIN:DAYLIGHT
TZOFFSETFROM:-0600
TZOFFSETTO:-0500
TZNAME:CDT
DTSTART:20240310T080000
END:DAYLIGHT
BEGIN:STANDARD
TZOFFSETFROM:-0500
TZOFFSETTO:-0600
TZNAME:CST
DTSTART:20241103T070000
END:STANDARD
BEGIN:DAYLIGHT
TZOFFSETFROM:-0600
TZOFFSETTO:-0500
TZNAME:CDT
DTSTART:20250309T080000
END:DAYLIGHT
BEGIN:STANDARD
TZOFFSETFROM:-0500
TZOFFSETTO:-0600
TZNAME:CST
DTSTART:20251102T070000
END:STANDARD
BEGIN:DAYLIGHT
TZOFFSETFROM:-0600
TZOFFSETTO:-0500
TZNAME:CDT
DTSTART:20260308T080000
END:DAYLIGHT
BEGIN:STANDARD
TZOFFSETFROM:-0500
TZOFFSETTO:-0600
TZNAME:CST
DTSTART:20261101T070000
END:STANDARD
END:VTIMEZONE
BEGIN:VEVENT
DTSTART;TZID=America/Chicago:20251203T160000
DTEND;TZID=America/Chicago:20251203T170000
DTSTAMP:20260424T003158
CREATED:20251128T045343Z
LAST-MODIFIED:20251128T165213Z
UID:11472-1764777600-1764781200@aboriginalministryofjustice.org
SUMMARY:Xi-Amaru Republic Level 3 Naturopathic Doctor Certification Oath Ceremony
DESCRIPTION:The Aboriginal Ministry of Justice and the Xi-Amaru Republic Health & Wellness Department will hold a special Level 3 Naturopathic Doctor Certification Oath Ceremony on December 3\, 2025\, at 4:00 PM CST via Google Meet. \nThis ceremony celebrates individuals who have successfully completed the requirements to become Certified Naturopathic Doctors (Level 3) within Xi-Amaru jurisdiction. \nDuring this important event\, recipients will:\n\n Take their Official Oath of Service\n Affirm their commitment to healing\, cultural preservation\, and divine order\n Receive formal recognition\n Be welcomed into the Xi-Amaru Republic Health & Wellness Department\n\nTribal members are invited to RSVP and attend in support\, as the Nation continues to strengthen its foundation in Indigenous wellness\, professional excellence\, and spiritual responsibility. \nAttendees are encouraged to wear semi-formal attire in honor of this sacred occasion. \n  \n✅ How to Access:\nTo receive access to this private meeting\, you must RSVP or email in**@*************************ce.org by 🕒 December 2 at 11:30 PM CST. \nThe gathering link will be sent by email only to verified Xi-Amaru citizens and nationals who meet the deadline. \n  \nInterested in ND Certification Learn More Click Here \nInterested in ND Certification Learn More Click Here \nInterested in ND Certification Learn More Click Here \n\n⚠️ Important Notice:\n\nIf you are not a verified tribal member\, replying will not grant you access.\n\nOur team will not respond to access requests from non-members.\n\n\n📧 Contact: \nIf you have questions or need to update your email on file\, please contact us at: \n📩 in**@*************************ce.org
URL:https://aboriginalministryofjustice.org/event/xi-amaru-republic-level-3-naturopathic-doctor-certification-oath-ceremony
LOCATION:Google Meet
CATEGORIES:Tribal Members ONLY Event (Free),Virtual Events
ATTACH;FMTTYPE=image/jpeg:https://aboriginalministryofjustice.org/wp-content/uploads/2025/11/Untitled-3.jpg
ORGANIZER;CN="Aboriginal Ministry of Justice":MAILTO:info@aboriginalministryofjustice.org
END:VEVENT
END:VCALENDAR