BEGIN:VCALENDAR
VERSION:2.0
PRODID:-//Aboriginal Ministry of Justice - ECPv6.15.20//NONSGML v1.0//EN
CALSCALE:GREGORIAN
METHOD:PUBLISH
X-WR-CALNAME:Aboriginal Ministry of Justice
X-ORIGINAL-URL:https://aboriginalministryofjustice.org
X-WR-CALDESC:Events for Aboriginal Ministry of Justice
REFRESH-INTERVAL;VALUE=DURATION:PT1H
X-Robots-Tag:noindex
X-PUBLISHED-TTL:PT1H
BEGIN:VTIMEZONE
TZID:America/Chicago
BEGIN:DAYLIGHT
TZOFFSETFROM:-0600
TZOFFSETTO:-0500
TZNAME:CDT
DTSTART:20240310T080000
END:DAYLIGHT
BEGIN:STANDARD
TZOFFSETFROM:-0500
TZOFFSETTO:-0600
TZNAME:CST
DTSTART:20241103T070000
END:STANDARD
BEGIN:DAYLIGHT
TZOFFSETFROM:-0600
TZOFFSETTO:-0500
TZNAME:CDT
DTSTART:20250309T080000
END:DAYLIGHT
BEGIN:STANDARD
TZOFFSETFROM:-0500
TZOFFSETTO:-0600
TZNAME:CST
DTSTART:20251102T070000
END:STANDARD
BEGIN:DAYLIGHT
TZOFFSETFROM:-0600
TZOFFSETTO:-0500
TZNAME:CDT
DTSTART:20260308T080000
END:DAYLIGHT
BEGIN:STANDARD
TZOFFSETFROM:-0500
TZOFFSETTO:-0600
TZNAME:CST
DTSTART:20261101T070000
END:STANDARD
END:VTIMEZONE
BEGIN:VEVENT
DTSTART;TZID=America/Chicago:20251031T190000
DTEND;TZID=America/Chicago:20251031T200000
DTSTAMP:20260424T040940
CREATED:20251015T001313Z
LAST-MODIFIED:20251015T002408Z
UID:11120-1761937200-1761940800@aboriginalministryofjustice.org
SUMMARY:Tribal Law Certification: Training the Next Generation of Leaders
DESCRIPTION:The Xi-Amaru Republic is preparing the next generation of leaders through our Tribal Law Certification. Learn about upcoming Tribal Law Program starting March 2026. This will set the stage to equips citizens with a strong understanding of Indigenous law\, UNDRIP\, and ADRIP so they can defend rights\, uphold justice\, and guide the nation forward. \n  \nEach event is designed to: \n\nEducate others on what our nations have to offer.\nShowcase the services offered by the Xi-Amaru Republic.\nInspire our people to walk in restoration\, protection\, and Kingdom order.\n\n📺 Watch Live: Subscribe to our official YouTube channel @aboriginalministryofjustice to get notifications and reminders for our events.
URL:https://aboriginalministryofjustice.org/event/tribal-law-certification-training-the-next-generation-of-leaders
LOCATION:YouTube Live
CATEGORIES:Virtual Events,Virtual Meeting
ATTACH;FMTTYPE=image/jpeg:https://aboriginalministryofjustice.org/wp-content/uploads/2025/10/Untitled-6-3.jpeg
ORGANIZER;CN="Aboriginal Ministry of Justice":MAILTO:info@aboriginalministryofjustice.org
END:VEVENT
END:VCALENDAR