BEGIN:VCALENDAR
VERSION:2.0
PRODID:-//Aboriginal Ministry of Justice - ECPv6.15.20//NONSGML v1.0//EN
CALSCALE:GREGORIAN
METHOD:PUBLISH
X-ORIGINAL-URL:https://aboriginalministryofjustice.org
X-WR-CALDESC:Events for Aboriginal Ministry of Justice
REFRESH-INTERVAL;VALUE=DURATION:PT1H
X-Robots-Tag:noindex
X-PUBLISHED-TTL:PT1H
BEGIN:VTIMEZONE
TZID:America/Chicago
BEGIN:DAYLIGHT
TZOFFSETFROM:-0600
TZOFFSETTO:-0500
TZNAME:CDT
DTSTART:20240310T080000
END:DAYLIGHT
BEGIN:STANDARD
TZOFFSETFROM:-0500
TZOFFSETTO:-0600
TZNAME:CST
DTSTART:20241103T070000
END:STANDARD
BEGIN:DAYLIGHT
TZOFFSETFROM:-0600
TZOFFSETTO:-0500
TZNAME:CDT
DTSTART:20250309T080000
END:DAYLIGHT
BEGIN:STANDARD
TZOFFSETFROM:-0500
TZOFFSETTO:-0600
TZNAME:CST
DTSTART:20251102T070000
END:STANDARD
BEGIN:DAYLIGHT
TZOFFSETFROM:-0600
TZOFFSETTO:-0500
TZNAME:CDT
DTSTART:20260308T080000
END:DAYLIGHT
BEGIN:STANDARD
TZOFFSETFROM:-0500
TZOFFSETTO:-0600
TZNAME:CST
DTSTART:20261101T070000
END:STANDARD
END:VTIMEZONE
BEGIN:VEVENT
DTSTART;TZID=America/Chicago:20251020T190000
DTEND;TZID=America/Chicago:20251020T200000
DTSTAMP:20260424T060630
CREATED:20251002T232030Z
LAST-MODIFIED:20251020T203415Z
UID:11084-1760986800-1760990400@aboriginalministryofjustice.org
SUMMARY:Health & Birth Services: Midwifery Care in the Xi-Amaru Republic
DESCRIPTION:This session focuses on the Republic’s midwifery and doula services\, which protect mothers and babies through safe\, holistic care. Learn how health services within our jurisdiction strengthen families and ensure the wellbeing of future generations. \n  \nEach event is designed to: \n\nEducate citizens about their rights and responsibilities.\nShowcase the services offered by the Xi-Amaru Republic.\nInspire our people to walk in restoration\, protection\, and Kingdom order.\n\n📺 Watch Live: Subscribe to our official YouTube channel @aboriginalministryofjustice to get notifications and reminders for our events.
URL:https://aboriginalministryofjustice.org/event/health-birth-services-midwifery-care-in-the-xi-amaru-republic
LOCATION:YouTube Live
CATEGORIES:Virtual Events,Virtual Meeting
ATTACH;FMTTYPE=image/png:https://aboriginalministryofjustice.org/wp-content/uploads/2025/10/Untitled-4-1.png
ORGANIZER;CN="Aboriginal Ministry of Justice":MAILTO:info@aboriginalministryofjustice.org
END:VEVENT
END:VCALENDAR