BEGIN:VCALENDAR
VERSION:2.0
PRODID:-//Aboriginal Ministry of Justice - ECPv6.15.20//NONSGML v1.0//EN
CALSCALE:GREGORIAN
METHOD:PUBLISH
X-ORIGINAL-URL:https://aboriginalministryofjustice.org
X-WR-CALDESC:Events for Aboriginal Ministry of Justice
REFRESH-INTERVAL;VALUE=DURATION:PT1H
X-Robots-Tag:noindex
X-PUBLISHED-TTL:PT1H
BEGIN:VTIMEZONE
TZID:America/Chicago
BEGIN:DAYLIGHT
TZOFFSETFROM:-0600
TZOFFSETTO:-0500
TZNAME:CDT
DTSTART:20240310T080000
END:DAYLIGHT
BEGIN:STANDARD
TZOFFSETFROM:-0500
TZOFFSETTO:-0600
TZNAME:CST
DTSTART:20241103T070000
END:STANDARD
BEGIN:DAYLIGHT
TZOFFSETFROM:-0600
TZOFFSETTO:-0500
TZNAME:CDT
DTSTART:20250309T080000
END:DAYLIGHT
BEGIN:STANDARD
TZOFFSETFROM:-0500
TZOFFSETTO:-0600
TZNAME:CST
DTSTART:20251102T070000
END:STANDARD
BEGIN:DAYLIGHT
TZOFFSETFROM:-0600
TZOFFSETTO:-0500
TZNAME:CDT
DTSTART:20260308T080000
END:DAYLIGHT
BEGIN:STANDARD
TZOFFSETFROM:-0500
TZOFFSETTO:-0600
TZNAME:CST
DTSTART:20261101T070000
END:STANDARD
END:VTIMEZONE
BEGIN:VEVENT
DTSTART;TZID=America/Chicago:20251121T200000
DTEND;TZID=America/Chicago:20251121T210000
DTSTAMP:20260424T034556
CREATED:20251121T211700Z
LAST-MODIFIED:20251121T211814Z
UID:11462-1763755200-1763758800@aboriginalministryofjustice.org
SUMMARY:Christ Above All: Becoming Mature Women of God
DESCRIPTION:Attendance: Public Event \nWho Can Attend: Women connected to the Xi-Amaru Republic and any sisters who desire biblical encouragement\, accountability\, and community. \n  \nP31Tribe invites the women of the Xi-Amaru Republic and friends to a weekly online gathering called Gyal Talk – a faith-filled\, heart-to-heart space created for women who desire growth\, healing\, and spiritual maturity. \nEach session is rooted in biblical truth and created to help you navigate real-life challenges as a woman\, daughter\, wife\, mother\, leader\, and sister in Christ. We talk openly about identity\, emotions\, relationships\, discipline\, purpose\, and maturity\, all through the lens of God’s Word. \nThis week’s discussion\, “Christ Above All: Becoming Mature Women of God\,” is inspired by our Bible study in Hebrews 1–5. Together\, we will explore what it truly means to: \n\nStay anchored in Christ and avoid spiritual drifting\n\nGuard our hearts from hardening through disappointment\n\nGrow from spiritual “milk” into mature women who walk in discernment\n\nRespond\, not react\, and carry ourselves as daughters of the King \n\nYou are welcome to come just as you are — camera on or off. Bring your Bible\, a notebook\, and an open heart. \nAdditional Event Details \n\nHost: P31Tribe Women’s Fellowship\n\nFacilitators: Nnakina & Evie\n\nDay: Every Friday\n\nTime: 8:00 PM CST\n\nFormat: Online – Zoom Click Here and Youtube Click Here \n\nZoom Meeting Information: \n\nMeeting ID: 899 3610 3057\n\nPasscode: P31Tribe \n\nCost: Free \nImportant Note: This invitation is being shared through the Aboriginal Ministry of Justice newsletter and platforms to reach women within the Xi-Amaru Republic. However\, Gyal Talk and P31Tribe are not government programs or official AMJ events. This is a separate\, faith-based women’s fellowship space made available for those who desire to participate.
URL:https://aboriginalministryofjustice.org/event/christ-above-all-becoming-mature-women-of-god
LOCATION:YouTube Live
CATEGORIES:Virtual Events
ATTACH;FMTTYPE=image/jpeg:https://aboriginalministryofjustice.org/wp-content/uploads/2025/11/P31Tribe-12.jpeg
END:VEVENT
END:VCALENDAR