BEGIN:VCALENDAR
VERSION:2.0
PRODID:-//Aboriginal Ministry of Justice - ECPv6.15.20//NONSGML v1.0//EN
CALSCALE:GREGORIAN
METHOD:PUBLISH
X-ORIGINAL-URL:https://aboriginalministryofjustice.org
X-WR-CALDESC:Events for Aboriginal Ministry of Justice
REFRESH-INTERVAL;VALUE=DURATION:PT1H
X-Robots-Tag:noindex
X-PUBLISHED-TTL:PT1H
BEGIN:VTIMEZONE
TZID:America/Chicago
BEGIN:DAYLIGHT
TZOFFSETFROM:-0600
TZOFFSETTO:-0500
TZNAME:CDT
DTSTART:20230312T080000
END:DAYLIGHT
BEGIN:STANDARD
TZOFFSETFROM:-0500
TZOFFSETTO:-0600
TZNAME:CST
DTSTART:20231105T070000
END:STANDARD
BEGIN:DAYLIGHT
TZOFFSETFROM:-0600
TZOFFSETTO:-0500
TZNAME:CDT
DTSTART:20240310T080000
END:DAYLIGHT
BEGIN:STANDARD
TZOFFSETFROM:-0500
TZOFFSETTO:-0600
TZNAME:CST
DTSTART:20241103T070000
END:STANDARD
BEGIN:DAYLIGHT
TZOFFSETFROM:-0600
TZOFFSETTO:-0500
TZNAME:CDT
DTSTART:20250309T080000
END:DAYLIGHT
BEGIN:STANDARD
TZOFFSETFROM:-0500
TZOFFSETTO:-0600
TZNAME:CST
DTSTART:20251102T070000
END:STANDARD
BEGIN:DAYLIGHT
TZOFFSETFROM:-0600
TZOFFSETTO:-0500
TZNAME:CDT
DTSTART:20260308T080000
END:DAYLIGHT
BEGIN:STANDARD
TZOFFSETFROM:-0500
TZOFFSETTO:-0600
TZNAME:CST
DTSTART:20261101T070000
END:STANDARD
END:VTIMEZONE
BEGIN:VEVENT
DTSTART;TZID=America/Chicago:20251020T190000
DTEND;TZID=America/Chicago:20251020T200000
DTSTAMP:20260423T123849
CREATED:20251002T232030Z
LAST-MODIFIED:20251020T203415Z
UID:11084-1760986800-1760990400@aboriginalministryofjustice.org
SUMMARY:Health & Birth Services: Midwifery Care in the Xi-Amaru Republic
DESCRIPTION:This session focuses on the Republic’s midwifery and doula services\, which protect mothers and babies through safe\, holistic care. Learn how health services within our jurisdiction strengthen families and ensure the wellbeing of future generations. \n  \nEach event is designed to: \n\nEducate citizens about their rights and responsibilities.\nShowcase the services offered by the Xi-Amaru Republic.\nInspire our people to walk in restoration\, protection\, and Kingdom order.\n\n📺 Watch Live: Subscribe to our official YouTube channel @aboriginalministryofjustice to get notifications and reminders for our events.
URL:https://aboriginalministryofjustice.org/event/health-birth-services-midwifery-care-in-the-xi-amaru-republic
LOCATION:YouTube Live
CATEGORIES:Virtual Events,Virtual Meeting
ATTACH;FMTTYPE=image/png:https://aboriginalministryofjustice.org/wp-content/uploads/2025/10/Untitled-4-1.png
ORGANIZER;CN="Aboriginal Ministry of Justice":MAILTO:info@aboriginalministryofjustice.org
END:VEVENT
BEGIN:VEVENT
DTSTART;TZID=America/Chicago:20251017T190000
DTEND;TZID=America/Chicago:20251017T200000
DTSTAMP:20260423T123849
CREATED:20251002T214238Z
LAST-MODIFIED:20251002T214238Z
UID:11067-1760727600-1760731200@aboriginalministryofjustice.org
SUMMARY:From "Black" misclassification to Nationhood: The Xi-Amaru Path Forward
DESCRIPTION:Learn the truth about how our people were misclassified as “Black” and how the Xi-Amaru Republic restores rightful Indigenous identity. This inspiring event highlights the path forward\, from brokenness and erasure to restoration and nationhood under divine alignment. \n  \nEach event is designed to: \n\nEducate citizens about their rights and responsibilities.\n\nShowcase the services offered by the Xi-Amaru Republic.\n\nInspire our people to walk in restoration\, protection\, and Kingdom order.\n\n\n📺 Watch Live: Subscribe to our official YouTube channel @aboriginalministryofjustice to get notifications and reminders for our events.
URL:https://aboriginalministryofjustice.org/event/from-black-misclassification-to-nationhood-the-xi-amaru-path-forward
LOCATION:YouTube Live
CATEGORIES:Virtual Events,Virtual Meeting
ATTACH;FMTTYPE=image/png:https://aboriginalministryofjustice.org/wp-content/uploads/2025/10/Untitled-4.png
ORGANIZER;CN="Aboriginal Ministry of Justice":MAILTO:info@aboriginalministryofjustice.org
END:VEVENT
BEGIN:VEVENT
DTSTART;TZID=America/Chicago:20251013T190000
DTEND;TZID=America/Chicago:20251013T200000
DTSTAMP:20260423T123849
CREATED:20251002T195935Z
LAST-MODIFIED:20251002T200736Z
UID:11063-1760382000-1760385600@aboriginalministryofjustice.org
SUMMARY:Kingdom Culture: The Moral Compass of the Xi-Amaru Republic
DESCRIPTION:This foundational teaching will uncover why Kingdom values—faith\, family\, and moral integrity—are the compass guiding Xi-Amaru life. Discover how our culture is rooted in God’s original design order and how this moral foundation sets the standard for our nation.
URL:https://aboriginalministryofjustice.org/event/kingdom-culture-the-moral-compass-of-the-xi-amaru-republic
LOCATION:YouTube Live
CATEGORIES:Virtual Events,Virtual Meeting
ATTACH;FMTTYPE=image/png:https://aboriginalministryofjustice.org/wp-content/uploads/2025/10/Untitled-3-1.png
ORGANIZER;CN="Aboriginal Ministry of Justice":MAILTO:info@aboriginalministryofjustice.org
END:VEVENT
BEGIN:VEVENT
DTSTART;TZID=America/Chicago:20250711T180000
DTEND;TZID=America/Chicago:20250711T190000
DTSTAMP:20260423T123849
CREATED:20250710T224342Z
LAST-MODIFIED:20250710T225711Z
UID:10623-1752256800-1752260400@aboriginalministryofjustice.org
SUMMARY:Tribal Meeting: July Meeting
DESCRIPTION:📅 Date: Friday\, July 11\, 2025 \n🕕 Time: 6:00 PM Central Time \n📍 Location: Virtual Only (Google Meet – Access link sent via email) \n🔐 Attendance: Xi-Amaru Republic citizens and nationals only \n🔔 About the Event\nJoin us for our official Tribal Meeting hosted by the Aboriginal Ministry of Justice. This meeting is an important opportunity for verified tribal members to receive direct updates from leadership on government services\, community responsibilities\, and national developments. \nThis gathering is held virtually to ensure accessible participation for tribal members across regions. \n\n🧾 Agenda Includes:\n\nNew and upcoming government services\nCommunity obligations and citizenship responsibilities\nAdministrative changes and deadlines\nMember Q&A (time permitting)\n\n✅ How to Access:\nTo receive access to this private meeting\, you must reply to the announcement email or email in**@*************************ce.org by \n🕒 Friday\, July 11 at 3:00 PM CST to be added to the Tribal Meeting Access List. \nThe meeting link will be sent by email only to verified Xi-Amaru citizens and nationals who meet the deadline. \n\n⚠️ Important Notice:\n\nIf you are not a verified tribal member\, replying will not grant you access.\n\nOur team will not respond to access requests from non-members.\n\nIf you miss this meeting but are a verified tribal member\, we encourage you to reply anyway to be added to the access list for future gatherings.\n\n📧 Contact: \nIf you have questions or need to update your email on file\, please contact us at: \n📩 in**@*************************ce.org
URL:https://aboriginalministryofjustice.org/event/xi-amaru-republic-july-meeting
LOCATION:Google Meet
CATEGORIES:Tribal Meetings,Virtual Meeting
ATTACH;FMTTYPE=image/jpeg:https://aboriginalministryofjustice.org/wp-content/uploads/2025/07/Untitled-3.jpg
ORGANIZER;CN="Aboriginal Ministry of Justice":MAILTO:info@aboriginalministryofjustice.org
END:VEVENT
BEGIN:VEVENT
DTSTART;VALUE=DATE:20250622
DTEND;VALUE=DATE:20250625
DTSTAMP:20260423T123849
CREATED:20250613T192426Z
LAST-MODIFIED:20250710T221400Z
UID:10473-1750633200-1750805999@aboriginalministryofjustice.org
SUMMARY:Level 1 Doula: Birth Education Class
DESCRIPTION:Buy Now Pay Later Option Available\n🖊 REGISTER NOW\nSeats are limited — especially for the in-person experience. \nCLICK HERE to secure your spot. \nCLICK HERE to secure your spot. \nCLICK HERE to secure your spot. \n  \nHosted by the Aboriginal Ministry of Justice \n📍 Memphis\, TN | In-Person & Virtual Certification Training \n📅 June 23–24 \n🕙 Monday: 10:00 AM – 4:00 PM CT \n🕘 Tuesday: 10:00 AM – 4:00 PM CT \n\n✨ Step Into Your Calling as a Certified Doula\nThis two-day immersive training is for those who feel called to serve Indigenous mothers\, protect sacred birth\, and operate lawfully under the Xi-Amaru Republic’s jurisdiction. Whether you’re joining in person or virtually\, you’ll receive powerful spiritual and professional tools to become a recognized\, culturally grounded doula. \n\n🎟 REGISTRATION OPTIONS\nIn-Person Experience – $499.99\n\nLive classroom instruction\nPrinted Doula Manual & Workbook\nFinal Certification Exam will be virtual  06/27 at 8:30pm CT (Link will be provided that day via email)\nAccess to VIP Upgrade Option\nOfficial Certificate of Completion (upon passing exam)\n\nVirtual Access – $350.00\n\nFull live-streamed class access\nDigital Doula Manual (eBook version only)\nFinal Certification Exam (administered virtually)\nOfficial Certificate of Completion (upon passing exam)\n\n📕 Printed manual is only provided to in-person participants. \n📘 In person students and Virtual students receive material in digital format. \n🎓 What You’ll Learn:\n\nCultural birth practices within the Xi-Amaru Republic\nServing Indigenous mothers lawfully under ADRIP & UNDRIP\nSafe home birth preparation\nPartnering with midwives\nEmotional and spiritual grounding\nBirth documentation (Tribal Documentation)\nHow to handle emergencies and grief situations with peace\n\n✅ Certification Requirements:\n\nAttendance (both days)\nParticipation in sessions\nPassing score of 80% or higher on the Final Exam\n\nOnly those who pass the final exam will receive certification. \n  \n💠 VIP UPGRADE – $999.99 (In-Person Only)\nEverything in general + Access to replay class once available \nIncludes a private dinner with: \n\nThe Chief\nTribal Leadership\nGuest Educators\n\n\nA personal evening of conversation\, insight\, and connection \n\nReplay will  be available 07.01.2025\n🖊 REGISTER NOW\nSeats are limited — especially for the in-person experience. \nCLICK HERE to secure your spot. \nCLICK HERE to secure your spot. \nWhether you’re with us on-site or online\, your presence is sacred\, your calling is lawful\, and your training will be transformational.
URL:https://aboriginalministryofjustice.org/event/doulaup
LOCATION:Aboriginal Ministry of Justice (HQ)\, 1840 Pyramid Place\, Memphis\, TN\, 38132\, United States
CATEGORIES:In Person,Private Meeting (Paid),Public Event (Paid),Virtual Events
ATTACH;FMTTYPE=image/png:https://aboriginalministryofjustice.org/wp-content/uploads/2025/06/Untitled-2.png
ORGANIZER;CN="Aboriginal Ministry of Justice":MAILTO:info@aboriginalministryofjustice.org
END:VEVENT
BEGIN:VEVENT
DTSTART;TZID=America/Chicago:20250621T180000
DTEND;TZID=America/Chicago:20250621T200000
DTSTAMP:20260423T123849
CREATED:20250611T023200Z
LAST-MODIFIED:20250612T003656Z
UID:10418-1750528800-1750536000@aboriginalministryofjustice.org
SUMMARY:Grand Opening: First AMJ Walk-In Tribal Location of the Xi-Amaru Republic
DESCRIPTION:🗓️ Event Date: Saturday\, June 21\, 2025 \n🕕 Time: 6:00 PM Central Time \n📍 Location: 1840 Pyramid Pl\, Memphis\, TN 38132 \n👔 Dress Code: Formal or Semi-Formal Attire (Strictly Enforced) \n🎟️ RSVP Required — Submit your RSVP below or  CLICK HERE \nDeadline: June 19\, 2025 \n🌍 This event is open to the public \n⏳ Event Duration: Approximately 1 to 2 hours \n\n\n🌟 Event Overview:\nYou are invited to attend the Grand Opening Celebration of the First AMJ Walk-In Tribal Location of the Xi-Amaru Republic\, a landmark moment for our Indigenous government and a public invitation to witness history in motion. \nThis space represents our commitment to service\, structure\, and national development. The evening will feature a ceremonial ribbon cutting followed by a formal address from Chief Nnakina Xi-Amaru Fears—the founder and active Chief of the Xi-Amaru Republic. \nAttendees will experience an atmosphere of unity\, leadership\, and pride. This is a formal/semi-formal affair\, and the dress code will be strictly enforced.  \n\n👨‍👩‍👧‍👦 A Family Celebration with RSVP Guidelines:\nThis event is family-friendly\, and we welcome children to attend and be part of this historic occasion. \nHowever\, in order to maintain a structured entry process: \n🧾 All guest must RSVP. \n👶 Children may be added as guests under a parent or guardian’s RSVP. \n❗ No adult will be admitted without a confirmed RSVP in their name. \n\n🚨 Important RSVP Policy:\n\n🎟️ RSVP is mandatory for every adult\n❌ No entry will be granted without prior confirmation — no exceptions\nVisit Event Brite CLICK HERE\n\n\n📢 Stay Connected:\nSubscribe to our newsletter and check our website frequently for RSVP updates and event reminders. \nCLICK HERE \n\nSafety & Entry Notice\nBy attending the Grand Opening Celebration of the First Walk-In Tribal Location of the Xi-Amaru Republic\, you acknowledge and agree to the following safety and entry protocols: \n\n🚨 Security personnel will be present onsite to ensure a safe and respectful environment for all guests.\n🎒 All bags and personal belongings are subject to search upon entry.\n🔍 We reserve the right to deny entry to any individual who refuses a security screening or whose behavior is deemed unsafe\, inappropriate\, or disruptive to the event.\n👥 Attendees must follow all instructions given by event staff\, security\, and tribal officials at all times.\n\nYour cooperation helps us maintain a sacred\, honorable\, and secure space for all who attend. \nWe appreciate your understanding and commitment to upholding the dignity of this historic occasion.
URL:https://aboriginalministryofjustice.org/event/xiamaru-office-opening
LOCATION:AMJ HQ\, 1840 Pyramid Place\, Memphis\, TN\, 38132\, United States
CATEGORIES:In Person,Public Event (Free)
ATTACH;FMTTYPE=image/jpeg:https://aboriginalministryofjustice.org/wp-content/uploads/2025/06/IMG_3509.jpg
ORGANIZER;CN="Aboriginal Ministry of Justice":MAILTO:info@aboriginalministryofjustice.org
END:VEVENT
BEGIN:VEVENT
DTSTART;TZID=America/Chicago:20250607T123000
DTEND;TZID=America/Chicago:20250607T133000
DTSTAMP:20260423T123849
CREATED:20250607T020613Z
LAST-MODIFIED:20250607T171146Z
UID:10310-1749299400-1749303000@aboriginalministryofjustice.org
SUMMARY:Xi-Amaru Republic: June Meeting 2
DESCRIPTION:TRIBAL MEMBERS MUST RSVP TO BE ADDED TO THE LIST \nPEOPLE WHO RSVP but are not Xi-Amaru Natives will not receive invite. \n🔁 Remaining Agenda Items Rescheduled \n  \nAgenda topics have been rescheduled for this follow-up session: \n📅 Saturday\, June 7th\, 2025 \n🕜 1:30 PM EST \n📍 Private Session – Xi-Amaru Republic Nationals and Citizens Only \n🔐 RSVP is required to attend – Invites going out on Friday \n  \nTopics to Be Covered: \n\n🎉 Office Grand Opening (June 21st planning & announcements)\n💼 Business Opportunity: Flag Licensing Program for Tribal Entrepreneurs\n🤰🏾 Level 1 Doula Certification – Memphis TN (June 23–24)\n📜 and more
URL:https://aboriginalministryofjustice.org/event/tribal-meeting-060725
LOCATION:Google Meet
CATEGORIES:Tribal Meetings,Virtual Meeting
ORGANIZER;CN="Aboriginal Ministry of Justice":MAILTO:info@aboriginalministryofjustice.org
END:VEVENT
BEGIN:VEVENT
DTSTART;TZID=America/Chicago:20241209T180000
DTEND;TZID=America/Chicago:20241209T190000
DTSTAMP:20260423T123849
CREATED:20241102T041607Z
LAST-MODIFIED:20241210T000256Z
UID:8069-1733767200-1733770800@aboriginalministryofjustice.org
SUMMARY:Monthly Virtual Introduction to the Xi-Amaru Republic: Learn\, Engage\, and Connect
DESCRIPTION:IMPORTANT NOTICE \nPlease note that there will be NO tribal meetings in December.  \nRegular meetings will resume on January 8th\, 2025 at 12:00 PM EST\, allowing for a refreshed start to the new year. \n  \n\nOur Monthly Virtual Introduction to the Xi-Amaru Republic held on the second Monday of each month. This recurring online event offers a comprehensive introduction to the Republic’s vision\, mission\, and initiatives\, tailored for citizens eager to understand our government structure\, citizenship benefits\, and engagement opportunities. Hosted by leaders from the Xi-Amaru Republic\, this interactive session ensures you’re informed and connected with our nation’s ongoing progress. \n  \nEvent Details: \n  \n\nWhen: Second Monday of every month\nTime: 7:00 PM EST\nWhere: Virtual \nLog in Details: Click Here\nDuration: 1 hour\n\n  \nAgenda Highlights: \n  \n\nWelcome and Introductions – Meet the host(s) and participants as we begin with an overview of the agenda.\nAbout the Xi-Amaru Republic – Dive into our Republic’s vision\, mission\, values\, and historical roots.\nCitizenship Rights & Responsibilities – Learn the benefits of Xi-Amaru citizenship and your role in our community.\nGovernment Structure & Leadership – Gain insights into our government\, key roles\, and ways for citizens to engage.\nPrograms and Initiatives – Discover current and upcoming projects and events where you can participate.\nLive Q&A Session – An open floor to address your questions and hear feedback.\nClosing Remarks – Recap key takeaways and outline next steps for staying involved.\n\n  \nWhy Attend? \nThis monthly introduction is an invaluable resource for both new and long-standing citizens\, offering exclusive insights into our national initiatives and ways to be actively involved. Whether you’re exploring to learn more information about your citizenship\, looking to participate in national programs\, or simply want to stay informed on developments\, this event connects you directly with our leadership team. \nDon’t miss this chance to deepen your connection with the Xi-Amaru Republic and learn how you can make a meaningful impact. \n  \nRecent Citizen in need of access to meeting log in details? \nClick Here to complete the Virtual Meeting Support form \nOR \nContact us via email: su*****@*************************ce.org.  \nSubject line: Request for Monthly Meeting Details *Include member ID Number*  \nInclude: Copy of Member ID as an attachment \nResponse time: 1 – 5 business days  \n 
URL:https://aboriginalministryofjustice.org/event/monthly-virtual-introduction-to-the-xi-amaru-republic-learn-engage-and-connect-2
LOCATION:Google Meet
CATEGORIES:Tribal Members ONLY Event (Free),Virtual Events,Virtual Meeting
ORGANIZER;CN="Aboriginal Ministry of Justice":MAILTO:info@aboriginalministryofjustice.org
END:VEVENT
BEGIN:VEVENT
DTSTART;TZID=America/Chicago:20241127T090000
DTEND;TZID=America/Chicago:20241127T220000
DTSTAMP:20260423T123849
CREATED:20241102T031425Z
LAST-MODIFIED:20241127T063313Z
UID:8054-1732698000-1732744800@aboriginalministryofjustice.org
SUMMARY:Meeting 2: Xi-Amaru Republic Six-Month Strategic Plan and Upcoming Census
DESCRIPTION:The second tribal meeting in November will focus on the future direction of the Xi-Amaru Republic\, including our strategic plans for the coming six months and preparations for the upcoming census. In this session\, we will outline our goals for national development\, share key initiatives\, and discuss the significance of the census and how to participate. Members will have the opportunity to ask questions and contribute to these discussions\, making this a valuable event for anyone interested in shaping the Republic’s path forward. \nEvent Details: \n\nWhere: Virtual \nLog in Details: Click Here\nDuration: 1 hour\n\n  \nAgenda Highlights: \n  \n\nStrategic planning for the next six months\nKey projects and national initiatives\nCensus overview\, purpose\, and participation\nOpen Q&A session\n\n  \nThis is a great opportunity to be part of the Republic’s ongoing growth. Join us to stay involved and informed about our nation’s vision and the steps we’re taking to achieve it.
URL:https://aboriginalministryofjustice.org/event/meeting-2-xi-amaru-republic-six-month-strategic-plan-and-upcoming-census
LOCATION:Google Meet
CATEGORIES:Tribal Meetings,Virtual Meeting
ORGANIZER;CN="Aboriginal Ministry of Justice":MAILTO:info@aboriginalministryofjustice.org
END:VEVENT
BEGIN:VEVENT
DTSTART;TZID=America/Chicago:20241121T160000
DTEND;TZID=America/Chicago:20241121T180000
DTSTAMP:20260423T123849
CREATED:20241102T001845Z
LAST-MODIFIED:20241109T065253Z
UID:7997-1732204800-1732212000@aboriginalministryofjustice.org
SUMMARY:Explore Your Indigenous Roots - (Detroit)
DESCRIPTION:Aboriginal Ministry of Justice\, a government organization of the Xi-Amaru Republic\, is partnering with the Community Treehouse Center Detroit to host an educational event on Indigenous rights. This event will explore the Xi-Amaru Republic’s government structure and its dedicated efforts to protect the rights of Indigenous peoples who endured slavery and cultural loss who live within the country of the United States of America (Amexum). \nEvent Highlights: \nLearn about the Xi-Amaru Republic’s government structure and its role in safeguarding Indigenous sovereignty and rights. \nUnderstand the impact of slavery and cultural loss on Indigenous communities and the Republic’s work toward cultural restoration. \nParticipate in a meaningful dialogue with community members\, advocates\, and Xi-Amaru leaders. \n  \nWe encourage tribal members in Detroit and all interested individuals to attend and bring friends\, family\, and community members. This event is an opportunity to connect\, build community bonds\, and gain a deeper understanding of Indigenous rights and the Republic’s mission to support and restore Indigenous heritage. \n  \nJoin us in raising awareness and supporting Indigenous communities!
URL:https://aboriginalministryofjustice.org/event/xi-amaru-event-detroit
LOCATION:Community Treehouse Center Detroit\, 100 Lenox Street\, Detroit\, MI\, 48215\, United States
CATEGORIES:In Person,Public Event (Free)
ORGANIZER;CN="Community Treehouse Center Detroit":MAILTO:willastrawder@communitytreehousecenterdetroit.com
END:VEVENT
BEGIN:VEVENT
DTSTART;TZID=America/Chicago:20241111T180000
DTEND;TZID=America/Chicago:20241111T190000
DTSTAMP:20260423T123849
CREATED:20241102T035858Z
LAST-MODIFIED:20241104T002818Z
UID:8059-1731348000-1731351600@aboriginalministryofjustice.org
SUMMARY:Monthly Virtual Introduction to the Xi-Amaru Republic: Learn\, Engage\, and Connect
DESCRIPTION:Starting this November (2024)\, join us for our Monthly Virtual Introduction to the Xi-Amaru Republic held on the second Monday of each month. This recurring online event offers a comprehensive introduction to the Republic’s vision\, mission\, and initiatives\, tailored for citizens eager to understand our government structure\, citizenship benefits\, and engagement opportunities. Hosted by leaders from the Xi-Amaru Republic\, this interactive session ensures you’re informed and connected with our nation’s ongoing progress. \n  \nEvent Details: \n  \n\nWhen: Second Monday of every month\nTime: 7:00 PM EST\nWhere: Virtual \nLog in Details: Click Here\nDuration: 1 hour\n\n  \nAgenda Highlights: \n  \n\nWelcome and Introductions – Meet the host(s) and participants as we begin with an overview of the agenda.\nAbout the Xi-Amaru Republic – Dive into our Republic’s vision\, mission\, values\, and historical roots.\nCitizenship Rights & Responsibilities – Learn the benefits of Xi-Amaru citizenship and your role in our community.\nGovernment Structure & Leadership – Gain insights into our government\, key roles\, and ways for citizens to engage.\nPrograms and Initiatives – Discover current and upcoming projects and events where you can participate.\nLive Q&A Session – An open floor to address your questions and hear feedback.\nClosing Remarks – Recap key takeaways and outline next steps for staying involved.\n\n  \nWhy Attend? \nThis monthly introduction is an invaluable resource for both new and long-standing citizens\, offering exclusive insights into our national initiatives and ways to be actively involved. Whether you’re exploring to learn more information about your citizenship\, looking to participate in national programs\, or simply want to stay informed on developments\, this event connects you directly with our leadership team. \nDon’t miss this chance to deepen your connection with the Xi-Amaru Republic and learn how you can make a meaningful impact. \n  \nRecent Citizen in need of access to meeting log in details?  \nClick Here to complete the Virtual Meeting Support form \nOR \nContact us via email: su*****@*************************ce.org.  \nSubject line: Request for Monthly Meeting Details *Include member ID Number*  \nInclude: Copy of Member ID as an attachment \nResponse time: 1 – 5 business days  \n 
URL:https://aboriginalministryofjustice.org/event/monthly-virtual-introduction-to-the-xi-amaru-republic-learn-engage-and-connect
LOCATION:Google Meet
CATEGORIES:Tribal Members ONLY Event (Free),Virtual Events
ORGANIZER;CN="Aboriginal Ministry of Justice":MAILTO:info@aboriginalministryofjustice.org
END:VEVENT
BEGIN:VEVENT
DTSTART;TZID=America/Chicago:20241108T100000
DTEND;TZID=America/Chicago:20241108T110000
DTSTAMP:20260423T123849
CREATED:20241102T030138Z
LAST-MODIFIED:20241104T003921Z
UID:8047-1731060000-1731063600@aboriginalministryofjustice.org
SUMMARY:Meeting 1: Xi-Amaru Republic Updates\, Taxation Overview\, and Career Opportunities
DESCRIPTION:Join us for the first of two important tribal meetings this November\, where we will provide critical updates on the Xi-Amaru Republic’s growth\, discuss recent changes in taxation policies\, and outline exciting new career opportunities within the Republic. This meeting is designed to keep tribal members informed on our ongoing initiatives and the latest developments that impact the nation. Topics include infrastructure and program updates\, key changes in the Republic’s taxation system\, and a breakdown of open career positions. We’ll also provide a platform for your questions and comments during a dedicated Q&A session. \nEvent Details: \n\nWhere: Virtual \nLog in Details: Click Here\nDuration: 1 hour\n\n  \nAgenda Highlights: \n  \n\nNation’s development and infrastructure progress\nOverview of new taxation policies\nCareer opportunities within the Republic\nOpen Q&A session\n\n  \nBe sure to attend for a full insight into the Republic’s growth and how these changes may benefit you and the community. \n 
URL:https://aboriginalministryofjustice.org/event/meeting-1-xi-amaru-republic-updates-taxation-overview-and-career-opportunities
LOCATION:Google Meet
CATEGORIES:Tribal Meetings,Virtual Meeting
ORGANIZER;CN="Aboriginal Ministry of Justice":MAILTO:info@aboriginalministryofjustice.org
END:VEVENT
END:VCALENDAR