BEGIN:VCALENDAR
VERSION:2.0
PRODID:-//Aboriginal Ministry of Justice - ECPv6.15.20//NONSGML v1.0//EN
CALSCALE:GREGORIAN
METHOD:PUBLISH
X-ORIGINAL-URL:https://aboriginalministryofjustice.org
X-WR-CALDESC:Events for Aboriginal Ministry of Justice
REFRESH-INTERVAL;VALUE=DURATION:PT1H
X-Robots-Tag:noindex
X-PUBLISHED-TTL:PT1H
BEGIN:VTIMEZONE
TZID:America/Chicago
BEGIN:DAYLIGHT
TZOFFSETFROM:-0600
TZOFFSETTO:-0500
TZNAME:CDT
DTSTART:20250309T080000
END:DAYLIGHT
BEGIN:STANDARD
TZOFFSETFROM:-0500
TZOFFSETTO:-0600
TZNAME:CST
DTSTART:20251102T070000
END:STANDARD
BEGIN:DAYLIGHT
TZOFFSETFROM:-0600
TZOFFSETTO:-0500
TZNAME:CDT
DTSTART:20260308T080000
END:DAYLIGHT
BEGIN:STANDARD
TZOFFSETFROM:-0500
TZOFFSETTO:-0600
TZNAME:CST
DTSTART:20261101T070000
END:STANDARD
BEGIN:DAYLIGHT
TZOFFSETFROM:-0600
TZOFFSETTO:-0500
TZNAME:CDT
DTSTART:20270314T080000
END:DAYLIGHT
BEGIN:STANDARD
TZOFFSETFROM:-0500
TZOFFSETTO:-0600
TZNAME:CST
DTSTART:20271107T070000
END:STANDARD
END:VTIMEZONE
BEGIN:VEVENT
DTSTART;TZID=America/Chicago:20260210T193000
DTEND;TZID=America/Chicago:20260210T203000
DTSTAMP:20260425T063017
CREATED:20260205T165512Z
LAST-MODIFIED:20260205T194639Z
UID:15605-1770751800-1770755400@aboriginalministryofjustice.org
SUMMARY:Orientation Program: Introduction to the Xi-Amaru Republic
DESCRIPTION:« All Events \nOrientation Program: Introduction to the Xi-Amaru Republic\nFebruary 9\, 2026\n@\n7:30 pm\n–\n8:30 pm\nCST \nGoogle Meet\n \n  \n \nOrientation Program: Introduction to the Xi-Amaru Republic\nSecond Tuesday of Every Month\nThe Aboriginal Ministry of Justice\, on behalf of the Xi-Amaru Republic\, hosts the Orientation Program: Introduction to the Xi-Amaru Republic on the second Tuesday of every month. \nThis recurring orientation is designed to provide individuals who are new to the nation with a clear\, structured understanding of the Xi-Amaru Republic’s identity\, governance\, jurisdiction\, and participation process. \nThe program supports informed transition\, responsible participation\, and clarity regarding rights\, expectations\, and next steps within the Xi-Amaru jurisdiction. \n \nWhat the Orientation Covers\nTopics typically include: \n\n\nWho the Xi-Amaru Republic is and why it was established \n\n\nGovernance structure and administrative authority \n\n\nIndigenous self-determination and internal governance rights \n\n\nNational vs. citizen status and timelines \n\n\nCitizenship procedures and documentation \n\n\nParticipation rights and limitations \n\n\nExpectations after orientation \n\n\nThe content is informational\, educational\, and procedural in nature. \n\n\n\nAdd to calendar \n \n\nGoogle Calendar\niCalendar\nOutlook 365\nOutlook Live\n\n  \nOPXI-020926\n0\nGoing\n3 days left to RSVP\nRSVP Here\n\nGoing  \nSupporting a Proper Transition\nThe Orientation Program reflects the Xi-Amaru Republic’s commitment to clarity\, lawful administration\, and responsible nation-building. Attendance ensures participants understand how to move forward accurately\, respectfully\, and in alignment with national procedures. \nEligible individuals are encouraged to RSVP and attend the next scheduled orientation. \nFor upcoming dates and RSVP instructions\, please visit the events section of the website. \n\n\n \nWho May Attend\nAttendance is open to individuals who fall into any of the following categories: \n\n\nIndividuals who have started the tribal screening process \n\n\nIndividuals who have completed tribal screening \n\n\nVerified Citizens of the Xi-Amaru Republic \n\n\nAll participants must have: \n\n\nA valid case number or member ID (if applicable to their stage) \n\n\nRSVP approval prior to the session \n\n\nThis orientation is designed to support individuals at multiple stages of transition\, from early screening through full citizenship\, by providing clear guidance on governance\, procedures\, and next steps. \n. \n\nEvent Details\n\n\nHost: Aboriginal Ministry of Justice \n\n\nFacilitator: Alberto Guerrero \n\n\nFormat: Virtual (Google Meet) \n\n\nRecording: Yes (official government record) \n\n\nEntry Policy: 15-minute grace period after start time \n\n\n\n\n \nConduct Expectations\nThis is an official government session. \nParticipants must: \n\nRemain respectful\nAvoid interruptions\nRefrain from personal case discussions\nAvoid legal debates or political arguments\nFollow moderator instructions\n\nQuestions will be addressed during the designated Q&A portion. \nACCESS TO MEETING SENT DAY OF MEETING | Date: Second Tuesday of the Month | Format: Virtual (Google Meet) | Administration: Aboriginal Ministry of Justice | Recording: Yes – official national record | RSVP: Required | Verification: Required | Camera Requirement: ON \n« All Events \n\n\n\nMonthly Community Health Forum \n\nMonthly Men’s Brotherhood Program | Xi-Amaru Republic
URL:https://aboriginalministryofjustice.org/event/orientation-program-xi-amaru-republic
LOCATION:Google Meet
CATEGORIES:Private Meeting (Free),Virtual Events
ATTACH;FMTTYPE=image/jpeg:https://aboriginalministryofjustice.org/wp-content/uploads/2026/02/PHOTO-2026-02-04-12-57-46.jpg
END:VEVENT
BEGIN:VEVENT
DTSTART;TZID=America/Chicago:20260217T193000
DTEND;TZID=America/Chicago:20260217T203000
DTSTAMP:20260425T063017
CREATED:20260203T130604Z
LAST-MODIFIED:20260203T132709Z
UID:15459-1771356600-1771360200@aboriginalministryofjustice.org
SUMMARY:Monthly Men’s Brotherhood Program | Xi-Amaru Republic
DESCRIPTION:« All Events\n \n\n	Monthly Men’s Brotherhood Program | Xi-Amaru Republic\n			February 17\, 2026\n	  @\n7:30 pm\n	  –\n8:30 pm\nCST \n\n	Google Meet\n\n\n\n					\n						\n	 \n\n																														 \nMen’s Brotherhood Program\nLeadership\, Accountability & Brotherhood Building\nThe Aboriginal Ministry of Justice\, on behalf of the Xi-Amaru Republic\, will be hosting the Men’s Brotherhood Program\, facilitated by James A. Fears II\, Founding Police Commissioner of the Xi-Amaru Republic. \nThis program is part of a recurring monthly men’s gathering designed to strengthen leadership\, accountability\, discipline\, and brotherhood among male citizens of the nation. Each session provides a structured environment for men to gather\, engage in purposeful discussion\, and develop as responsible leaders within their families\, communities\, and the nation. \nThe Men’s Brotherhood Program is grounded in biblical principles\, personal responsibility\, and lawful conduct\, with a focus on building strong men who contribute to the stability and future of the Xi-Amaru Republic. \n																														 \nWhat This Forum Covers\nTopics vary each month and may include: \n\n\nLeadership and responsibility \n\n\nBrotherhood and accountability \n\n\nDiscipline and self-control \n\n\nIntegrity and character development \n\n\nFamily and community responsibility \n\n\nNavigating challenges faced by men today \n\n\nRepresenting the nation with honor and respect \n\n\nBiblical foundations for manhood and leadership \n\n\nThis program is educational and developmental in nature and is not a counseling\, legal\, or therapy session. \n\n\n	\n	Add to calendar	\n		\n	\n \n\n\n	Google Calendar\n\n\n	iCalendar\n\n\n	Outlook 365\n\n\n	Outlook Live\n\n\n		\n	\n	\n\n	\n	\n\n	\n	\n \n\n	MPXI-0217\n		0\n		Going\n		RSVP Here\n	\n		Going	\n																														 \nEligibility to Attend\nAttendance is open to verified: \n\n\nCitizens only (male) \n\n\nParticipants must have completed the citizenship process\, possess a valid member ID number\, and RSVP in advance. \n. \n\nEvent Details\n\n\nHost: Aboriginal Ministry of Justice \n\n\nFacilitator: James A. Fears II\, Founding Police Commissioner\, Xi-Amaru Republic \n\n\nFormat: Virtual (Google Meet) \n\n\nRecording: Yes (official government record) \n\n\nEntry Policy: 15-minute grace period after start time \n\n\n\nConduct Expectations\nThis is an official government session. \nParticipants must: \n\nRemain respectful\nAvoid interruptions\nRefrain from personal case discussions\nAvoid legal debates or political arguments\nFollow moderator instructions \n\nQuestions will be addressed during the designated Q&A portion. \n															\n																														 \nThe Men’s Brotherhood Program supports the Xi-Amaru Republic’s commitment to restoring disciplined leadership\, accountability\, and unity among its men as a vital part of nation-building. \n\nACCESS TO MEETING SENT DAY OF MEETING | Date: Third Tuesday of the Month | Format: Virtual (Google Meet) | Administration: Aboriginal Ministry of Justice | Recording: Yes – official national record | RSVP: Required | Verification: Required | Camera Requirement: Optional \n\n	« All Events\n \n\n\n\n\n				Monthly Community Health Forum	\n\n\n	\n		Monthly Mental & Emotional Restoration Forum
URL:https://aboriginalministryofjustice.org/event/mens-brotherhood-program
LOCATION:Google Meet
CATEGORIES:Tribal Members ONLY Event (Free),Virtual Events
END:VEVENT
BEGIN:VEVENT
DTSTART;TZID=America/Chicago:20260224T193000
DTEND;TZID=America/Chicago:20260224T203000
DTSTAMP:20260425T063017
CREATED:20260203T103716Z
LAST-MODIFIED:20260214T022740Z
UID:15445-1771961400-1771965000@aboriginalministryofjustice.org
SUMMARY:Monthly Mental & Emotional Restoration Forum
DESCRIPTION:« All Events \nMonthly Mental & Emotional Restoration Forum\nFebruary 24\, 2026\n@\n7:30 pm\n–\n8:30 pm\nCST \nGoogle Meet\n \n  \n \nMental & Emotional Restoration Forum\nTrauma-Informed & Biblically Grounded Education\nThe Aboriginal Ministry of Justice\, on behalf of the Xi-Amaru Republic\, will be hosting a Mental & Emotional Restoration Forum\, facilitated by one of our authorized Naturopathic Doctors. \nThis forum is part of a recurring monthly restoration series focused on supporting the mental and emotional well-being of our people through trauma-informed education\, clinical insight\, and biblical principles. Each session will address different topics related to emotional healing\, identity restoration\, stress regulation\, and long-term mental resilience. \nThe purpose of this forum is to provide structured\, educational guidance that helps members understand how historical displacement\, misclassification\, and life stressors affect mental and emotional health\, while encouraging healthy coping practices and appropriate professional care when needed. \n \nWhat This Forum Covers\nTopics vary each month and may include: \n\n\nEmotional healing after trauma and displacement \n\n\nStress\, anxiety\, and emotional regulation \n\n\nIdentity restoration and self-worth \n\n\nGrief\, loss\, and recovery \n\n\nAnger management and boundaries \n\n\nTrauma responses and the nervous system \n\n\nCoping tools for emotional stability \n\n\nBiblical foundations for healing\, renewal\, and discipline of the mind \n\n\nThis forum is educational and restorative in nature and does not replace individualized mental health treatment or emergency care. \n\n\n\nAdd to calendar \n  \n\nGoogle Calendar\niCalendar\nOutlook 365\nOutlook Live\n\n\n\n \nEligibility to Attend\nThis meeting is open to: \n\nVerified Nationals\nVerified Citizens\n\nAll attendees must: \n\nHave completed tribal screening\nHave a valid case number from screening\nRSVP in advance\n\nNo guests or unverified individuals will be admitted. \n\nEvent Details\n\n\nHost: Aboriginal Ministry of Justice \n\n\nFacilitator: Authorized Naturopathic Doctor \n\n\nFormat: Virtual (Google Meet) \n\n\nRecording: Yes (official government record) \n\n\nEntry Policy: 15-minute grace period after start time \n\n\n\nConduct Expectations\nThis is an official government session. \nParticipants must: \n\nRemain respectful\nAvoid interruptions\nRefrain from personal case discussions\nAvoid legal debates or political arguments\nFollow moderator instructions\n\nQuestions will be addressed during the designated Q&A portion. \n \nMHXI-032426\n0\nGoing\nRSVP Here\n\nGoing  \nACCESS TO MEETING SENT DAY OF MEETING | Date: Tuesday\, February 24\, 2026 | Format: Virtual (Google Meet) | Administration: Aboriginal Ministry of Justice | Recording: Yes – official national record | RSVP: Required | Verification: Required | Camera Requirement: Optional \n« All Events \n\n\n\nMonthly Community Health Forum \n\nEntry-Level Tribal Law Course
URL:https://aboriginalministryofjustice.org/event/mental-emotional-restoration-forum
LOCATION:Google Meet
CATEGORIES:Tribal Members ONLY Event (Free),Virtual Events
END:VEVENT
BEGIN:VEVENT
DTSTART;VALUE=DATE:20260309
DTEND;VALUE=DATE:20260312
DTSTAMP:20260425T063017
CREATED:20251130T115102Z
LAST-MODIFIED:20251201T051859Z
UID:11537-1773014400-1773273599@aboriginalministryofjustice.org
SUMMARY:Entry-Level Tribal Law Course
DESCRIPTION:Enroll Now\nEnroll Now\nEnroll Now\nMarch 9–11\, 2026\nTier 3 Bonus Day: March 12\, 2026\nJoin us for a powerful 3-day virtual intensive designed to teach the foundations of Tribal Law\, Indigenous rights\, and the legal framework of the Xi-Amaru Republic. This event is open to the public\, with an exclusive certification pathway available only for Xi-Amaru citizens. \n\n📅 EVENT DATES\nMain Training (All Tiers): \nMarch 9\, 2026  \nMarch 10\, 2026 \nMarch 11\, 2026 \nTier 3 Bonus Day: \nMarch 12\, 2026 \n(For Xi-Amaru citizens enrolled in Tier 3 only) \n\n💻 FORMAT\nVirtual Event – Attend from anywhere \nAll sessions will be hosted online. \nFull login details and event access will be emailed on: \n📧 February 16\, 2026 \n\nTICKET OPTIONS \n\nTier 1 = educational only\nTier 2 = for people who want deeper knowledge and may want to serve in the future\nTier 3 = for citizens ready to enter the jurisdiction and become Tribal Jurists\n\n\n🎓 WHAT YOU WILL LEARN\n\nFoundations of Tribal Law\n\nADRIP & UNDRIP\n\nAutonomy\, Self-Determination & Jurisdiction\n\nStructure of the Xi-Amaru Republic\n\nTribal Documentation & Dual Status\n\nCase Study: CPS & Indigenous Rights (Tier 3 ONLY)\n\nCase Study: Employment/Tax Exemption Conflict (Tier 3 ONLY)\n\nLegal writing basics & tribal notices (Tier 3 ONLY)\nPathway to becoming a Tribal Jurist (Tier 3 ONLY)\n\n\nWHO SHOULD ATTEND\n\nTribal Members\n\nCommunity supporters\n\nAspiring legal practitioners\n\nStudents of Indigenous governance\n\nIndividuals wanting deeper understanding of Tribal Law\n\nXi-Amaru citizens preparing to serve in jurisdiction\n\n📩 CONFIRMATION & ACCESS\nAll registered attendees will receive: \n\nAccess link\n\nLogin details\n\nTraining schedule\n\nSent on February 16\, 2026.\n\n🔥 RESERVE YOUR SEAT NOW\nTickets are limited due to the interactive structure of the training. \nChoose your tier and secure your spot for the March 2026 intensive. \nEarly Bird Special Ends 01.01.2026 \nEnroll Now\nEnroll Now\nEnroll Now
URL:https://aboriginalministryofjustice.org/event/11537
CATEGORIES:Private Meeting (Paid),Virtual Events
ATTACH;FMTTYPE=image/jpeg:https://aboriginalministryofjustice.org/wp-content/uploads/2025/11/Untitled-4-1.jpeg
ORGANIZER;CN="Aboriginal Ministry of Justice":MAILTO:info@aboriginalministryofjustice.org
END:VEVENT
END:VCALENDAR