BEGIN:VCALENDAR
VERSION:2.0
PRODID:-//Aboriginal Ministry of Justice - ECPv6.15.20//NONSGML v1.0//EN
CALSCALE:GREGORIAN
METHOD:PUBLISH
X-ORIGINAL-URL:https://aboriginalministryofjustice.org
X-WR-CALDESC:Events for Aboriginal Ministry of Justice
REFRESH-INTERVAL;VALUE=DURATION:PT1H
X-Robots-Tag:noindex
X-PUBLISHED-TTL:PT1H
BEGIN:VTIMEZONE
TZID:America/Chicago
BEGIN:DAYLIGHT
TZOFFSETFROM:-0600
TZOFFSETTO:-0500
TZNAME:CDT
DTSTART:20250309T080000
END:DAYLIGHT
BEGIN:STANDARD
TZOFFSETFROM:-0500
TZOFFSETTO:-0600
TZNAME:CST
DTSTART:20251102T070000
END:STANDARD
BEGIN:DAYLIGHT
TZOFFSETFROM:-0600
TZOFFSETTO:-0500
TZNAME:CDT
DTSTART:20260308T080000
END:DAYLIGHT
BEGIN:STANDARD
TZOFFSETFROM:-0500
TZOFFSETTO:-0600
TZNAME:CST
DTSTART:20261101T070000
END:STANDARD
BEGIN:DAYLIGHT
TZOFFSETFROM:-0600
TZOFFSETTO:-0500
TZNAME:CDT
DTSTART:20270314T080000
END:DAYLIGHT
BEGIN:STANDARD
TZOFFSETFROM:-0500
TZOFFSETTO:-0600
TZNAME:CST
DTSTART:20271107T070000
END:STANDARD
END:VTIMEZONE
BEGIN:VEVENT
DTSTART;VALUE=DATE:20260309
DTEND;VALUE=DATE:20260312
DTSTAMP:20260423T185304
CREATED:20251130T115102Z
LAST-MODIFIED:20251201T051859Z
UID:11537-1773014400-1773273599@aboriginalministryofjustice.org
SUMMARY:Entry-Level Tribal Law Course
DESCRIPTION:« All Events\n 				\n				\n				\n				\n					\n	Orientation Program: Introduction to the Xi-Amaru Republic				\n				\n				\n				\n					\n		\n			February 10\, 2026\n\n	\n\n	  @  \n\n\n7:30 pm\n\n		\n\n\n\n	\n	  -  \n\n8:30 pm\n\n\nCST\n	\n				\n				\n				\n				\n					This event has passed. \n				\n				\n				\n				\n					\n				\n				\n	\n	Google Meet\n	\n	\n\n\n\n\n\n\n\n\n\n\n	\n					\n						\n	 \n\n\n	\n	 \n\n\n\n	\n		\n	\n				\n				\n				\n				\n																														\n				\n				\n				\n									Orientation Program: Introduction to the Xi-Amaru RepublicSecond Tuesday of Every MonthThe Aboriginal Ministry of Justice\, on behalf of the Xi-Amaru Republic\, hosts the Orientation Program: Introduction to the Xi-Amaru Republic on the second Tuesday of every month. This recurring orientation is designed to provide individuals who are new to the nation with a clear\, structured understanding of the Xi-Amaru Republic’s identity\, governance\, jurisdiction\, and participation process. The program supports informed transition\, responsible participation\, and clarity regarding rights\, expectations\, and next steps within the Xi-Amaru jurisdiction. 								\n				\n				\n				\n							\n			\n						\n		\n						\n				\n				\n						\n					\n			\n						\n				\n																														\n				\n				\n				\n									What the Orientation CoversTopics typically include: Who the Xi-Amaru Republic is and why it was established Governance structure and administrative authority Indigenous self-determination and internal governance rights National vs. citizen status and timelines Citizenship procedures and documentation Participation rights and limitations Expectations after orientation The content is informational\, educational\, and procedural in nature. 								\n				\n				\n				\n					\n	\n		\n\n	\n	Add to calendar	\n		\n	\n\n		\n			\n									\n	Google Calendar\n\n									\n	iCalendar\n\n									\n	Outlook 365\n\n									\n	Outlook Live\n\n							\n		\n\n		\n	\n\n				\n				\n				\n				\n									Supporting a Proper TransitionThe Orientation Program reflects the Xi-Amaru Republic’s commitment to clarity\, lawful administration\, and responsible nation-building. Attendance ensures participants understand how to move forward accurately\, respectfully\, and in alignment with national procedures. Eligible individuals are encouraged to RSVP and attend the next scheduled orientation. For upcoming dates and RSVP instructions\, please visit the events section of the website. 								\n				\n				\n				\n																														\n				\n					\n		\n				\n			\n						\n				\n																														\n				\n				\n				\n									Who May AttendAttendance is open to individuals who fall into any of the following categories: Individuals who have started the tribal screening process Individuals who have completed tribal screening Verified Citizens of the Xi-Amaru Republic All participants must have: A valid case number or member ID (if applicable to their stage) RSVP approval prior to the session This orientation is designed to support individuals at multiple stages of transition\, from early screening through full citizenship\, by providing clear guidance on governance\, procedures\, and next steps. . Event DetailsHost: Aboriginal Ministry of Justice Facilitator: Alberto Guerrero Format: Virtual (Google Meet) Recording: Yes (official government record) Entry Policy: 15-minute grace period after start time 								\n				\n				\n				\n							\n					\n						\n				\n				\n				\n																														\n				\n				\n				\n									Conduct ExpectationsThis is an official government session. Participants must: Remain respectfulAvoid interruptionsRefrain from personal case discussionsAvoid legal debates or political argumentsFollow moderator instructions Questions will be addressed during the designated Q&A portion. 								\n				\n					\n		\n					\n		\n				\n				\n							\n			\n		\n						\n				\n				\n				\n									ACCESS TO MEETING SENT DAY OF MEETING | Date: Second Tuesday of the Month | Format: Virtual (Google Meet) | Administration: Aboriginal Ministry of Justice | Recording: Yes – official national record | RSVP: Required | Verification: Required | Camera Requirement: ON 								\n				\n				\n				\n					\n	« All Events\n 				\n				\n				\n				\n							\n			\n						\n		\n						\n				\n				\n				\n					\n	\n		\n\n				Monthly Community Health Forum	\n\n\n		\n	\n		Monthly Men’s Brotherhood Program | Xi-Amaru Republic
URL:https://aboriginalministryofjustice.org/event/11537
CATEGORIES:Private Meeting (Paid),Virtual Events
ATTACH;FMTTYPE=image/jpeg:https://aboriginalministryofjustice.org/wp-content/uploads/2025/11/Untitled-4-1.jpeg
ORGANIZER;CN="Aboriginal Ministry of Justice":MAILTO:info@aboriginalministryofjustice.org
END:VEVENT
END:VCALENDAR