BEGIN:VCALENDAR
VERSION:2.0
PRODID:-//Aboriginal Ministry of Justice - ECPv6.15.20//NONSGML v1.0//EN
CALSCALE:GREGORIAN
METHOD:PUBLISH
X-ORIGINAL-URL:https://aboriginalministryofjustice.org
X-WR-CALDESC:Events for Aboriginal Ministry of Justice
REFRESH-INTERVAL;VALUE=DURATION:PT1H
X-Robots-Tag:noindex
X-PUBLISHED-TTL:PT1H
BEGIN:VTIMEZONE
TZID:America/Chicago
BEGIN:DAYLIGHT
TZOFFSETFROM:-0600
TZOFFSETTO:-0500
TZNAME:CDT
DTSTART:20250309T080000
END:DAYLIGHT
BEGIN:STANDARD
TZOFFSETFROM:-0500
TZOFFSETTO:-0600
TZNAME:CST
DTSTART:20251102T070000
END:STANDARD
BEGIN:DAYLIGHT
TZOFFSETFROM:-0600
TZOFFSETTO:-0500
TZNAME:CDT
DTSTART:20260308T080000
END:DAYLIGHT
BEGIN:STANDARD
TZOFFSETFROM:-0500
TZOFFSETTO:-0600
TZNAME:CST
DTSTART:20261101T070000
END:STANDARD
BEGIN:DAYLIGHT
TZOFFSETFROM:-0600
TZOFFSETTO:-0500
TZNAME:CDT
DTSTART:20270314T080000
END:DAYLIGHT
BEGIN:STANDARD
TZOFFSETFROM:-0500
TZOFFSETTO:-0600
TZNAME:CST
DTSTART:20271107T070000
END:STANDARD
END:VTIMEZONE
BEGIN:VEVENT
DTSTART;TZID=America/Chicago:20260130T180000
DTEND;TZID=America/Chicago:20260130T190000
DTSTAMP:20260425T081815
CREATED:20260128T214329Z
LAST-MODIFIED:20260128T223441Z
UID:15213-1769796000-1769799600@aboriginalministryofjustice.org
SUMMARY:Official Tribal Government Meeting – January 30
DESCRIPTION:« All Events\n \n\n	Official Tribal Government Meeting – January 30\n			January 30\, 2026\n	  @\n6:00 pm\n	  –\n7:00 pm\nCST \n\n	Google Meet\n\n\n\n					\n						\n	 \n\nMeeting Purpose\nThis official tribal government meeting is being convened to provide critical updates regarding: \n\nCurrent IRS changes and implementations\nWhat they mean for Xi-Amaru nationals and citizens\nLawful compliance while maintaining Indigenous self-governance\nAdministrative procedures currently being developed by the government \n\nThis meeting is part of the Xi-Amaru Republic’s responsibility to keep its people informed\, protected\, and properly guided as federal systems evolve. \n	 \n  \n\nKey Topics to Be Covered\n1. IRS Developments (2025–2026) \n2. Administrative Updates \n3. Nationals vs Citizens – Tax Implications \n4. Dual Jurisdiction Compliance \nEligibility to Attend\nThis meeting is open to: \n\nVerified Nationals\nVerified Citizens \n\nAll attendees must: \n\nHave completed tribal screening\nHave a valid case number from screening\nRSVP in advance \n\nNo guests or unverified individuals will be admitted. \n\n\n	\n	Add to calendar	\n		\n	\n \n\n\n	Google Calendar\n\n\n	iCalendar\n\n\n	Outlook 365\n\n\n	Outlook Live\n\n\n		https://www.youtube.com/watch?v=06V9Nnzfip8 \n  \nPlatform & Entry Rules\n\nPlatform: Google Meet\nRecording: Mandatory\nCamera must remain on\nEntry grace period: 15 minutes from start time\nAfter 15 minutes\, entry is closed\nAttendance constitutes consent to recording \n\nConduct Expectations\nThis is an official government session. \nParticipants must: \n\nRemain respectful\nAvoid interruptions\nRefrain from personal case discussions\nAvoid legal debates or political arguments\nFollow moderator instructions \n\nQuestions will be addressed during the designated Q&A portion. \nWhy This Meeting Matters\nThis session ensures: \n\nProtection of the nation\nProtection of citizens\nLawful participation in society\nProper use of Indigenous rights under UNDRIP & ADRIP\nPrevention of misinformation\nStability during federal policy changes\n\nACCESS TO MEETING SENT DAY OF MEETING | Date: Friday\, January 30\, 2026 | Format: Virtual (Google Meet) | Administration: Aboriginal Ministry of Justice | Recording: Yes – official national record | RSVP: Required | Verification: Required | Camera Requirement: ON \n	\n	\n\n	\n	\n\n	\n	\n \n\n	GOV-IRS-0130\n		0\n		Going\n	 1  day left to RSVP\n		RSVP Here\n	\n		Going	 \n\n	« All Events\n \n\n\n\n\n				Xi-Amaru Republic Level 3 Naturopathic Doctor Certification Oath Ceremony	\n\n\n	\n		Entry-Level Tribal Law Course
URL:https://aboriginalministryofjustice.org/event/tribal-government-meeting-january-30
LOCATION:Google Meet
CATEGORIES:Tribal Meetings,Virtual Meeting
ATTACH;FMTTYPE=image/jpeg:https://aboriginalministryofjustice.org/wp-content/uploads/2026/01/Untitled-2-11.jpeg
ORGANIZER;CN="Aboriginal Ministry of Justice":MAILTO:info@aboriginalministryofjustice.org
END:VEVENT
END:VCALENDAR