BEGIN:VCALENDAR
VERSION:2.0
PRODID:-//Aboriginal Ministry of Justice - ECPv6.15.20//NONSGML v1.0//EN
CALSCALE:GREGORIAN
METHOD:PUBLISH
X-ORIGINAL-URL:https://aboriginalministryofjustice.org
X-WR-CALDESC:Events for Aboriginal Ministry of Justice
REFRESH-INTERVAL;VALUE=DURATION:PT1H
X-Robots-Tag:noindex
X-PUBLISHED-TTL:PT1H
BEGIN:VTIMEZONE
TZID:America/Chicago
BEGIN:DAYLIGHT
TZOFFSETFROM:-0600
TZOFFSETTO:-0500
TZNAME:CDT
DTSTART:20230312T080000
END:DAYLIGHT
BEGIN:STANDARD
TZOFFSETFROM:-0500
TZOFFSETTO:-0600
TZNAME:CST
DTSTART:20231105T070000
END:STANDARD
BEGIN:DAYLIGHT
TZOFFSETFROM:-0600
TZOFFSETTO:-0500
TZNAME:CDT
DTSTART:20240310T080000
END:DAYLIGHT
BEGIN:STANDARD
TZOFFSETFROM:-0500
TZOFFSETTO:-0600
TZNAME:CST
DTSTART:20241103T070000
END:STANDARD
BEGIN:DAYLIGHT
TZOFFSETFROM:-0600
TZOFFSETTO:-0500
TZNAME:CDT
DTSTART:20250309T080000
END:DAYLIGHT
BEGIN:STANDARD
TZOFFSETFROM:-0500
TZOFFSETTO:-0600
TZNAME:CST
DTSTART:20251102T070000
END:STANDARD
BEGIN:DAYLIGHT
TZOFFSETFROM:-0600
TZOFFSETTO:-0500
TZNAME:CDT
DTSTART:20260308T080000
END:DAYLIGHT
BEGIN:STANDARD
TZOFFSETFROM:-0500
TZOFFSETTO:-0600
TZNAME:CST
DTSTART:20261101T070000
END:STANDARD
END:VTIMEZONE
BEGIN:VEVENT
DTSTART;VALUE=DATE:20250622
DTEND;VALUE=DATE:20250625
DTSTAMP:20260423T171749
CREATED:20250613T192426Z
LAST-MODIFIED:20250710T221400Z
UID:10473-1750633200-1750805999@aboriginalministryofjustice.org
SUMMARY:Level 1 Doula: Birth Education Class
DESCRIPTION:Buy Now Pay Later Option Available\n🖊 REGISTER NOW\nSeats are limited — especially for the in-person experience. \nCLICK HERE to secure your spot. \nCLICK HERE to secure your spot. \nCLICK HERE to secure your spot. \n  \nHosted by the Aboriginal Ministry of Justice \n📍 Memphis\, TN | In-Person & Virtual Certification Training \n📅 June 23–24 \n🕙 Monday: 10:00 AM – 4:00 PM CT \n🕘 Tuesday: 10:00 AM – 4:00 PM CT \n\n✨ Step Into Your Calling as a Certified Doula\nThis two-day immersive training is for those who feel called to serve Indigenous mothers\, protect sacred birth\, and operate lawfully under the Xi-Amaru Republic’s jurisdiction. Whether you’re joining in person or virtually\, you’ll receive powerful spiritual and professional tools to become a recognized\, culturally grounded doula. \n\n🎟 REGISTRATION OPTIONS\nIn-Person Experience – $499.99\n\nLive classroom instruction\nPrinted Doula Manual & Workbook\nFinal Certification Exam will be virtual  06/27 at 8:30pm CT (Link will be provided that day via email)\nAccess to VIP Upgrade Option\nOfficial Certificate of Completion (upon passing exam)\n\nVirtual Access – $350.00\n\nFull live-streamed class access\nDigital Doula Manual (eBook version only)\nFinal Certification Exam (administered virtually)\nOfficial Certificate of Completion (upon passing exam)\n\n📕 Printed manual is only provided to in-person participants. \n📘 In person students and Virtual students receive material in digital format. \n🎓 What You’ll Learn:\n\nCultural birth practices within the Xi-Amaru Republic\nServing Indigenous mothers lawfully under ADRIP & UNDRIP\nSafe home birth preparation\nPartnering with midwives\nEmotional and spiritual grounding\nBirth documentation (Tribal Documentation)\nHow to handle emergencies and grief situations with peace\n\n✅ Certification Requirements:\n\nAttendance (both days)\nParticipation in sessions\nPassing score of 80% or higher on the Final Exam\n\nOnly those who pass the final exam will receive certification. \n  \n💠 VIP UPGRADE – $999.99 (In-Person Only)\nEverything in general + Access to replay class once available \nIncludes a private dinner with: \n\nThe Chief\nTribal Leadership\nGuest Educators\n\n\nA personal evening of conversation\, insight\, and connection \n\nReplay will  be available 07.01.2025\n🖊 REGISTER NOW\nSeats are limited — especially for the in-person experience. \nCLICK HERE to secure your spot. \nCLICK HERE to secure your spot. \nWhether you’re with us on-site or online\, your presence is sacred\, your calling is lawful\, and your training will be transformational.
URL:https://aboriginalministryofjustice.org/event/doulaup
LOCATION:Aboriginal Ministry of Justice (HQ)\, 1840 Pyramid Place\, Memphis\, TN\, 38132\, United States
CATEGORIES:In Person,Private Meeting (Paid),Public Event (Paid),Virtual Events
ATTACH;FMTTYPE=image/png:https://aboriginalministryofjustice.org/wp-content/uploads/2025/06/Untitled-2.png
ORGANIZER;CN="Aboriginal Ministry of Justice":MAILTO:info@aboriginalministryofjustice.org
END:VEVENT
BEGIN:VEVENT
DTSTART;TZID=America/Chicago:20250621T180000
DTEND;TZID=America/Chicago:20250621T200000
DTSTAMP:20260423T171749
CREATED:20250611T023200Z
LAST-MODIFIED:20250612T003656Z
UID:10418-1750528800-1750536000@aboriginalministryofjustice.org
SUMMARY:Grand Opening: First AMJ Walk-In Tribal Location of the Xi-Amaru Republic
DESCRIPTION:🗓️ Event Date: Saturday\, June 21\, 2025 \n🕕 Time: 6:00 PM Central Time \n📍 Location: 1840 Pyramid Pl\, Memphis\, TN 38132 \n👔 Dress Code: Formal or Semi-Formal Attire (Strictly Enforced) \n🎟️ RSVP Required — Submit your RSVP below or  CLICK HERE \nDeadline: June 19\, 2025 \n🌍 This event is open to the public \n⏳ Event Duration: Approximately 1 to 2 hours \n\n\n🌟 Event Overview:\nYou are invited to attend the Grand Opening Celebration of the First AMJ Walk-In Tribal Location of the Xi-Amaru Republic\, a landmark moment for our Indigenous government and a public invitation to witness history in motion. \nThis space represents our commitment to service\, structure\, and national development. The evening will feature a ceremonial ribbon cutting followed by a formal address from Chief Nnakina Xi-Amaru Fears—the founder and active Chief of the Xi-Amaru Republic. \nAttendees will experience an atmosphere of unity\, leadership\, and pride. This is a formal/semi-formal affair\, and the dress code will be strictly enforced.  \n\n👨‍👩‍👧‍👦 A Family Celebration with RSVP Guidelines:\nThis event is family-friendly\, and we welcome children to attend and be part of this historic occasion. \nHowever\, in order to maintain a structured entry process: \n🧾 All guest must RSVP. \n👶 Children may be added as guests under a parent or guardian’s RSVP. \n❗ No adult will be admitted without a confirmed RSVP in their name. \n\n🚨 Important RSVP Policy:\n\n🎟️ RSVP is mandatory for every adult\n❌ No entry will be granted without prior confirmation — no exceptions\nVisit Event Brite CLICK HERE\n\n\n📢 Stay Connected:\nSubscribe to our newsletter and check our website frequently for RSVP updates and event reminders. \nCLICK HERE \n\nSafety & Entry Notice\nBy attending the Grand Opening Celebration of the First Walk-In Tribal Location of the Xi-Amaru Republic\, you acknowledge and agree to the following safety and entry protocols: \n\n🚨 Security personnel will be present onsite to ensure a safe and respectful environment for all guests.\n🎒 All bags and personal belongings are subject to search upon entry.\n🔍 We reserve the right to deny entry to any individual who refuses a security screening or whose behavior is deemed unsafe\, inappropriate\, or disruptive to the event.\n👥 Attendees must follow all instructions given by event staff\, security\, and tribal officials at all times.\n\nYour cooperation helps us maintain a sacred\, honorable\, and secure space for all who attend. \nWe appreciate your understanding and commitment to upholding the dignity of this historic occasion.
URL:https://aboriginalministryofjustice.org/event/xiamaru-office-opening
LOCATION:AMJ HQ\, 1840 Pyramid Place\, Memphis\, TN\, 38132\, United States
CATEGORIES:In Person,Public Event (Free)
ATTACH;FMTTYPE=image/jpeg:https://aboriginalministryofjustice.org/wp-content/uploads/2025/06/IMG_3509.jpg
ORGANIZER;CN="Aboriginal Ministry of Justice":MAILTO:info@aboriginalministryofjustice.org
END:VEVENT
BEGIN:VEVENT
DTSTART;TZID=America/Chicago:20241121T160000
DTEND;TZID=America/Chicago:20241121T180000
DTSTAMP:20260423T171749
CREATED:20241102T001845Z
LAST-MODIFIED:20241109T065253Z
UID:7997-1732204800-1732212000@aboriginalministryofjustice.org
SUMMARY:Explore Your Indigenous Roots - (Detroit)
DESCRIPTION:Aboriginal Ministry of Justice\, a government organization of the Xi-Amaru Republic\, is partnering with the Community Treehouse Center Detroit to host an educational event on Indigenous rights. This event will explore the Xi-Amaru Republic’s government structure and its dedicated efforts to protect the rights of Indigenous peoples who endured slavery and cultural loss who live within the country of the United States of America (Amexum). \nEvent Highlights: \nLearn about the Xi-Amaru Republic’s government structure and its role in safeguarding Indigenous sovereignty and rights. \nUnderstand the impact of slavery and cultural loss on Indigenous communities and the Republic’s work toward cultural restoration. \nParticipate in a meaningful dialogue with community members\, advocates\, and Xi-Amaru leaders. \n  \nWe encourage tribal members in Detroit and all interested individuals to attend and bring friends\, family\, and community members. This event is an opportunity to connect\, build community bonds\, and gain a deeper understanding of Indigenous rights and the Republic’s mission to support and restore Indigenous heritage. \n  \nJoin us in raising awareness and supporting Indigenous communities!
URL:https://aboriginalministryofjustice.org/event/xi-amaru-event-detroit
LOCATION:Community Treehouse Center Detroit\, 100 Lenox Street\, Detroit\, MI\, 48215\, United States
CATEGORIES:In Person,Public Event (Free)
ORGANIZER;CN="Community Treehouse Center Detroit":MAILTO:willastrawder@communitytreehousecenterdetroit.com
END:VEVENT
END:VCALENDAR